BEGIN:VCALENDAR
VERSION:2.0
PRODID:-//DP Pro Event Calendar//3.2.6//EN
BEGIN:VEVENT
UID:b31ce5f3-f80a-4457-9d11-70687e2dbca8
DTSTART;TZID=UTC:20241211T190000
DTEND;TZID=UTC:20241211T200000
DTSTAMP:20200608T135918Z
SUMMARY:Western les woensdag
DESCRIPTION:
LOCATION:
URL:
END:VEVENT
END:VCALENDAR