BEGIN:VCALENDAR
VERSION:2.0
PRODID:-//DP Pro Event Calendar//3.2.6//EN
BEGIN:VEVENT
UID:52a8b0ec-15f3-41ad-bcf8-141fea73d178
DTSTART;TZID=UTC:20250305T190000
DTEND;TZID=UTC:20250305T200000
DTSTAMP:20200608T135918Z
SUMMARY:Western les woensdag
DESCRIPTION:
LOCATION:
URL:
END:VEVENT
END:VCALENDAR