BEGIN:VCALENDAR
VERSION:2.0
PRODID:-//DP Pro Event Calendar//3.2.6//EN
BEGIN:VEVENT
UID:eed0099e-d3a3-4138-a07a-105f3142e010
DTSTART;TZID=UTC:20250709T190000
DTEND;TZID=UTC:20250709T200000
DTSTAMP:20200608T135918Z
SUMMARY:Western les woensdag
DESCRIPTION:
LOCATION:
URL:
END:VEVENT
END:VCALENDAR