BEGIN:VCALENDAR
VERSION:2.0
PRODID:-//DP Pro Event Calendar//3.2.6//EN
BEGIN:VEVENT
UID:441cf45c-89af-4c23-b0a7-158493c0e949
DTSTART;TZID=UTC:20251008T190000
DTEND;TZID=UTC:20251008T200000
DTSTAMP:20200608T135918Z
SUMMARY:Western les woensdag
DESCRIPTION:
LOCATION:
URL:
END:VEVENT
END:VCALENDAR