BEGIN:VCALENDAR
VERSION:2.0
PRODID:-//DP Pro Event Calendar//3.2.6//EN
BEGIN:VEVENT
UID:248d0b61-6265-40a6-9b04-101492a887a1
DTSTART;TZID=UTC:20260423T193000
DTEND;TZID=UTC:20260423T203000
DTSTAMP:20211018T131413Z
SUMMARY:Dressuur les donderdagavond
DESCRIPTION:
LOCATION:
URL:
END:VEVENT
END:VCALENDAR