BEGIN:VCALENDAR
VERSION:2.0
PRODID:-//DP Pro Event Calendar//3.2.6//EN
BEGIN:VEVENT
UID:fd5dee88-3e15-470e-9abb-f1f1df72ac51
DTSTART;TZID=UTC:20261112T193000
DTEND;TZID=UTC:20261112T203000
DTSTAMP:20211018T131413Z
SUMMARY:Dressuur les donderdagavond
DESCRIPTION:
LOCATION:
URL:
END:VEVENT
END:VCALENDAR