BEGIN:VCALENDAR
VERSION:2.0
PRODID:-//DP Pro Event Calendar//3.2.6//EN
BEGIN:VEVENT
UID:8d16ec4a-052d-4a70-9dd7-3299e54edd18
DTSTART;TZID=UTC:20270217T190000
DTEND;TZID=UTC:20270217T200000
DTSTAMP:20200608T135918Z
SUMMARY:Western les woensdag
DESCRIPTION:
LOCATION:
URL:
END:VEVENT
END:VCALENDAR