BEGIN:VCALENDAR
VERSION:2.0
PRODID:-//DP Pro Event Calendar//3.2.6//EN
BEGIN:VEVENT
UID:ba40c388-1e76-41ed-bf93-826cccefbb60
DTSTART;TZID=UTC:20290111T193000
DTEND;TZID=UTC:20290111T203000
DTSTAMP:20211018T131413Z
SUMMARY:Dressuur les donderdagavond
DESCRIPTION:
LOCATION:
URL:
END:VEVENT
END:VCALENDAR